BEGIN:VCALENDAR
VERSION:2.0
PRODID:-//ESV Wuppertal Ost 1926 e.V. - ECPv6.15.20//NONSGML v1.0//EN
CALSCALE:GREGORIAN
METHOD:PUBLISH
X-ORIGINAL-URL:https://esv-wuppertal-ost.de
X-WR-CALDESC:Veranstaltungen für ESV Wuppertal Ost 1926 e.V.
REFRESH-INTERVAL;VALUE=DURATION:PT1H
X-Robots-Tag:noindex
X-PUBLISHED-TTL:PT1H
BEGIN:VTIMEZONE
TZID:Europe/Berlin
BEGIN:DAYLIGHT
TZOFFSETFROM:+0100
TZOFFSETTO:+0200
TZNAME:CEST
DTSTART:20250330T010000
END:DAYLIGHT
BEGIN:STANDARD
TZOFFSETFROM:+0200
TZOFFSETTO:+0100
TZNAME:CET
DTSTART:20251026T010000
END:STANDARD
BEGIN:DAYLIGHT
TZOFFSETFROM:+0100
TZOFFSETTO:+0200
TZNAME:CEST
DTSTART:20260329T010000
END:DAYLIGHT
BEGIN:STANDARD
TZOFFSETFROM:+0200
TZOFFSETTO:+0100
TZNAME:CET
DTSTART:20261025T010000
END:STANDARD
BEGIN:DAYLIGHT
TZOFFSETFROM:+0100
TZOFFSETTO:+0200
TZNAME:CEST
DTSTART:20270328T010000
END:DAYLIGHT
BEGIN:STANDARD
TZOFFSETFROM:+0200
TZOFFSETTO:+0100
TZNAME:CET
DTSTART:20271031T010000
END:STANDARD
END:VTIMEZONE
BEGIN:VEVENT
DTSTART;TZID=Europe/Berlin:20260111T130000
DTEND;TZID=Europe/Berlin:20260111T160000
DTSTAMP:20260421T131120
CREATED:20251022T142420Z
LAST-MODIFIED:20251022T142420Z
UID:3438-1768136400-1768147200@esv-wuppertal-ost.de
SUMMARY:Eisbaden
DESCRIPTION:
URL:https://esv-wuppertal-ost.de/belegungsplan/eisbaden-14/
END:VEVENT
BEGIN:VEVENT
DTSTART;TZID=Europe/Berlin:20260118T133000
DTEND;TZID=Europe/Berlin:20260118T180000
DTSTAMP:20260421T131120
CREATED:20251118T063617Z
LAST-MODIFIED:20251118T063617Z
UID:3536-1768743000-1768759200@esv-wuppertal-ost.de
SUMMARY:Aquafitness
DESCRIPTION:
URL:https://esv-wuppertal-ost.de/belegungsplan/aquafitness-7/
END:VEVENT
BEGIN:VEVENT
DTSTART;TZID=Europe/Berlin:20260125T090000
DTEND;TZID=Europe/Berlin:20260125T130000
DTSTAMP:20260421T131120
CREATED:20251022T144411Z
LAST-MODIFIED:20251126T212901Z
UID:3456-1769331600-1769346000@esv-wuppertal-ost.de
SUMMARY:Waldlauf Wuppertal
DESCRIPTION:
URL:https://esv-wuppertal-ost.de/belegungsplan/waldlauf-wuppertal/
END:VEVENT
BEGIN:VEVENT
DTSTART;TZID=Europe/Berlin:20260125T130000
DTEND;TZID=Europe/Berlin:20260125T160000
DTSTAMP:20260421T131120
CREATED:20251022T142442Z
LAST-MODIFIED:20251022T142442Z
UID:3440-1769346000-1769356800@esv-wuppertal-ost.de
SUMMARY:Eisbaden
DESCRIPTION:
URL:https://esv-wuppertal-ost.de/belegungsplan/eisbaden-15/
END:VEVENT
END:VCALENDAR